BEGIN:VCALENDAR
VERSION:2.0
PRODID:TU Chemnitz
METHOD:PUBLISH
X-WR-CALNAME:Veranstaltungen der TU Chemnitz
X-WR-TIMEZONE:Europe/Berlin
BEGIN:VEVENT
CLASS:PUBLIC
DTSTART;TZID="Europe/Berlin":20101123T093000
DTEND;TZID="Europe/Berlin":20101123T230000
LOCATION:Reichenhainer Str. 90\, Chemnitz (Zentr. Hörsaal- und Seminargebäude)
SUMMARY:Thementag Mittelalter (FSR-Phil\, Sächsisch-Tschechische Hochschulinitiative)
DESCRIPTION:Den Beginn des Programms bilden ab 9:30 Uhr verschiedenste Vorträge zu Literatur\, Politik\, Kampfkunst\, Ernährung und dem lieben Geld.\nProf. Dr. Christoph Fasbender\, Doc. PhDr. Tomáš Velímský u.a.\nBitte weiterführende Hinweise auf Veranstaltungswebseite beachten! 
ORGANIZER:MAILTO:robert.meyer@s2007.tu-chemnitz.de
UID:12920@www.tu-chemnitz.de
CREATED:20101109T161000Z
DTSTAMP:20210802T192942Z
END:VEVENT
END:VCALENDAR
