BEGIN:VCALENDAR
VERSION:2.0
PRODID:TU Chemnitz
METHOD:PUBLISH
X-WR-CALNAME:Veranstaltungen der TU Chemnitz
X-WR-TIMEZONE:Europe/Berlin
BEGIN:VEVENT
CLASS:PUBLIC
DTSTART;TZID="Europe/Berlin":20101112T120000
DTEND;TZID="Europe/Berlin":20101113T200000
LOCATION:Str. der Nationen 62\, Chemnitz (Böttcher-Bau)
SUMMARY:Ethische Konflikte im Forschungsalltag (TU Chemnitz)
DESCRIPTION:Keine Angst\, auch wenn 'Ethik' im Titel steht. Frau Sponholz und Herr Gommel holen Sie in Ihrem Alltag ab\,  sprechen mit Ihnen forschungstypische Konfliktsituationen durch und machen vor allem eines: regen Sie dazu an\, diese untereinander zu diskutieren.\nDr. Gerlinde Sponholz & Dr. Michael Bommel\nSylvia Uhlmann Zimmer: 1/022 Tel.: +49 371 531 – 21240 E-Mail: physchem@chemie.tu-chemnitz.de
ORGANIZER:MAILTO:werner.goedel@chemie.tu-chemnitz.de
UID:12900@www.tu-chemnitz.de
CREATED:20101101T152800Z
DTSTAMP:20210802T192953Z
END:VEVENT
END:VCALENDAR
