BEGIN:VCALENDAR
VERSION:2.0
PRODID:TU Chemnitz
METHOD:PUBLISH
X-WR-CALNAME:Veranstaltungen der TU Chemnitz
X-WR-TIMEZONE:Europe/Berlin
BEGIN:VEVENT
CLASS:PUBLIC
DTSTART;TZID="Europe/Berlin":20101110T153000
DTEND;TZID="Europe/Berlin":20101110T170000
LOCATION:Reichenhainer Str. 90\, Chemnitz (Zentr. Hörsaal- und Seminargebäude)
SUMMARY:Nutzerforum des URZ: "MSDNAA - freier Zugang zu Microsoft-Software für TU-Angehörige bestimmter Fakultäten" (Universitätsrechenzentrum)
DESCRIPTION:Ein zentraler Vertrag - Vorteile und Einschränkungen; welche Software ist verfügbar?; technische Realisierung; Stellen sie Ihre Fragen und diskutieren mit uns!\nDr. Wolfgang Riedel\, URZ\nAnmeldung nicht erforderlich
ORGANIZER:MAILTO:rosita.pudlat@hrz.tu-chemnitz.de
UID:12891@www.tu-chemnitz.de
CREATED:20101029T130400Z
DTSTAMP:20210802T192936Z
END:VEVENT
END:VCALENDAR
