BEGIN:VCALENDAR
VERSION:2.0
PRODID:TU Chemnitz
METHOD:PUBLISH
X-WR-CALNAME:Veranstaltungen der TU Chemnitz
X-WR-TIMEZONE:Europe/Berlin
BEGIN:VEVENT
CLASS:PUBLIC
DTSTART;TZID="Europe/Berlin":20101110T134500
DTEND;TZID="Europe/Berlin":20101110T151500
LOCATION:Reichenhainer Str. 90\, Chemnitz (Zentr. Hörsaal- und Seminargebäude)
SUMMARY:Nutzerforum des URZ: "Zukünftiges Lizenz- und Software-Beschaffungsportal der TU Chemnitz (Universitätsrechenzentrum)
DESCRIPTION:Das URZ plant die Inbetriebnahme eines Online-Shops zur Vergabe und Verwaltung von Softwarelizenzen aus Campusverträgen.Informieren Sie sich über die Zielstellung und die Randbedingungen!\nDr. Wolfgang Riedel\, URZ\nAnmeldung nicht erforderlich
ORGANIZER:MAILTO:rosita.pudlat@hrz.tu-chemnitz.de
UID:12890@www.tu-chemnitz.de
CREATED:20101029T120800Z
DTSTAMP:20210802T192940Z
END:VEVENT
END:VCALENDAR
