BEGIN:VCALENDAR
VERSION:2.0
PRODID:TU Chemnitz
METHOD:PUBLISH
X-WR-CALNAME:Veranstaltungen der TU Chemnitz
X-WR-TIMEZONE:Europe/Berlin
BEGIN:VEVENT
CLASS:PUBLIC
DTSTART;TZID="Europe/Berlin":20101102T210000
DTEND;TZID="Europe/Berlin":20101102T230000
LOCATION:Kino\, Reichenhainer Str. 35/37\, Keller
SUMMARY:[Campuskino * "mittendrin"] Das Konzert (filmclub »mittendrin«)
DESCRIPTION:Der Regisseur vom 'Zug des Lebens' bringt ein ausgedientes Orchester zu einem ergaunerten Konzert nach Paris. Skurille Russen und Musik\, die ans Herz geht...\nfilmclub@tu-chemnitz.de
ORGANIZER:MAILTO:robert.gerstenberger@s2004.tu-chemnitz.de
UID:12880@www.tu-chemnitz.de
CREATED:20101028T122900Z
DTSTAMP:20210802T192937Z
END:VEVENT
END:VCALENDAR
