BEGIN:VCALENDAR
VERSION:2.0
PRODID:TU Chemnitz
METHOD:PUBLISH
X-WR-CALNAME:Veranstaltungen der TU Chemnitz
X-WR-TIMEZONE:Europe/Berlin
BEGIN:VEVENT
CLASS:PUBLIC
DTSTART;TZID="Europe/Berlin":20101102T190000
DTEND;TZID="Europe/Berlin":20101102T203000
LOCATION:Reichenhainer Str. 90\, Chemnitz (Zentr. Hörsaal- und Seminargebäude)
SUMMARY:„The Need for Comparative Philosophy “ (Philosophische Fakultät\, Interkulturelle Kommunikation)
DESCRIPTION:Kunchapudi Srinivas (Pondicherry)\narne.weidemann@phil.tu-chemnitz.de\, Tel: 0371/531-35017
ORGANIZER:MAILTO:corina.markert@phil.tu-chemnitz.de
UID:12875@www.tu-chemnitz.de
CREATED:20101026T140600Z
DTSTAMP:20210802T192955Z
END:VEVENT
END:VCALENDAR
