BEGIN:VCALENDAR
VERSION:2.0
PRODID:TU Chemnitz
METHOD:PUBLISH
X-WR-CALNAME:Veranstaltungen der TU Chemnitz
X-WR-TIMEZONE:Europe/Berlin
BEGIN:VEVENT
CLASS:PUBLIC
DTSTART;TZID="Europe/Berlin":20110317T153000
DTEND;TZID="Europe/Berlin":20110317T153000
LOCATION:Thüringer Weg 3\, Zwergencampus
SUMMARY:Kreativnachmittag "Wenn die Blümchen erwachen.." (TU Chemnitz\, Projekt Familiengerechte Hochschule)
DESCRIPTION:Der Frühling kommt und die Blumen und Tiere erwachen aus dem Winterschlaf. Das wollen wir zum Anlass nehmen\, um uns mit dem Frühling und seine Besonderheiten zu beschäftigen. Für Kinder bis 6 Jahre.\nUlrike Kintzel\, ulrike.kintzel@s2007.tu-chemnitz.de
ORGANIZER:MAILTO:renate.wissuwa@verwaltung.tu-chemnitz.de
UID:12858@www.tu-chemnitz.de
CREATED:20101020T143600Z
DTSTAMP:20210802T192812Z
END:VEVENT
END:VCALENDAR
