BEGIN:VCALENDAR
VERSION:2.0
PRODID:TU Chemnitz
METHOD:PUBLISH
X-WR-CALNAME:Veranstaltungen der TU Chemnitz
X-WR-TIMEZONE:Europe/Berlin
BEGIN:VEVENT
CLASS:PUBLIC
DTSTART;TZID="Europe/Berlin":20101220T150000
DTEND;TZID="Europe/Berlin":20101220T170000
LOCATION:Mensa Reichenhainer Straße
SUMMARY:Weihnachtsfeier für Kinder (TU Chemnitz\, Projekt Familiengerechte Hochschule)
DESCRIPTION:Euch erwartet ein Puppentheater und viel weitere Überraschungen.\nUlrike Kintzel\, ulrike.kintzel@s2007.tu-chemnitz.de
ORGANIZER:MAILTO:renate.wissuwa@verwaltung.tu-chemnitz.de
UID:12856@www.tu-chemnitz.de
CREATED:20101020T142600Z
DTSTAMP:20210802T192916Z
END:VEVENT
END:VCALENDAR
