BEGIN:VCALENDAR
VERSION:2.0
PRODID:TU Chemnitz
METHOD:PUBLISH
X-WR-CALNAME:Veranstaltungen der TU Chemnitz
X-WR-TIMEZONE:Europe/Berlin
BEGIN:VEVENT
CLASS:PUBLIC
DTSTART;TZID="Europe/Berlin":20110115T100000
DTEND;TZID="Europe/Berlin":20110115T180000
LOCATION:Chemnitz
SUMMARY:STUBE-Tagesveranstaltung: "Landflucht und die Folgen" (TU Chemnitz\, Internationales Universitätszentrum)
DESCRIPTION:Bei Fragen und für weitere Informationen wenden Sie sich bitte an Frau Scharschmidt.\nSTUBE - Studienbegleitprogramm f. Studierende aus Afrika\, Asien\, Lateinamerika und Südosteuropa\nKristin Scharschmidt\, 0351-492 33 65\, Email: stube@infozentrum-dresden.de
ORGANIZER:MAILTO:patenprogramm@tu-chemnitz.de
UID:12851@www.tu-chemnitz.de
CREATED:20101019T214200Z
DTSTAMP:20210802T192850Z
END:VEVENT
END:VCALENDAR
