BEGIN:VCALENDAR
VERSION:2.0
PRODID:TU Chemnitz
METHOD:PUBLISH
X-WR-CALNAME:Veranstaltungen der TU Chemnitz
X-WR-TIMEZONE:Europe/Berlin
BEGIN:VEVENT
CLASS:PUBLIC
DTSTART;TZID="Europe/Berlin":20101210T100000
DTEND;TZID="Europe/Berlin":20101212T150000
LOCATION:Dresden
SUMMARY:STUBE-Wochenendseminar: "Energiepolitik für die Zukunft - oder: wie sollen wir (über)leben?" (TU Chemnitz\, Internationales Universitätszentrum)
DESCRIPTION:Wir wollen die Folgen der verschiedenen Arten von Energiegewinnung diskutieren. Im Mittelpunkt stehen dabei neue Technologien und „nachwachsende Rohstoffe”. Best Practice Beispiele sowie ihre Anwendbarkeit in anderen Ländern werden besprochen.\nSTUBE - Studienbegleitprogramm f. Studierende aus Afrika\, Asien\, Lateinamerika und Südosteuropa\nKristin Scharschmidt\, 0351-492 33 65\, Email: stube@infozentrum-dresden.de
ORGANIZER:MAILTO:patenprogramm@tu-chemnitz.de
UID:12850@www.tu-chemnitz.de
CREATED:20101019T213900Z
DTSTAMP:20210802T192912Z
END:VEVENT
END:VCALENDAR
