BEGIN:VCALENDAR
VERSION:2.0
PRODID:TU Chemnitz
METHOD:PUBLISH
X-WR-CALNAME:Veranstaltungen der TU Chemnitz
X-WR-TIMEZONE:Europe/Berlin
BEGIN:VEVENT
CLASS:PUBLIC
DTSTART;TZID="Europe/Berlin":20101127T100000
DTEND;TZID="Europe/Berlin":20101127T160000
LOCATION:Dresden
SUMMARY:STUBE-Tagesveranstaltung: "In der Ruhe liegt die Kraft - Gesundheit und StudentInnen-Leben" (TU Chemnitz\, Internationales Universitätszentrum)
DESCRIPTION:Wir werden besprechen\, wie sich gesundheitsschädigendes Verhalten im Studentenleben vermeiden lässt\, wie mit belastenden Stresssituationen im Alltag umgegangen werden kann\, und einüben\, wie diese bewältigt werden können.\nSTUBE - Studienbegleitprogramm f. Studierende aus Afrika\, Asien\, Lateinamerika und Südosteuropa\nKristin Scharschmidt\, 0351-492 33 65\, Email: stube@infozentrum-dresden.de
ORGANIZER:MAILTO:patenprogramm@tu-chemnitz.de
UID:12849@www.tu-chemnitz.de
CREATED:20101019T213700Z
DTSTAMP:20210802T192938Z
END:VEVENT
END:VCALENDAR
