BEGIN:VCALENDAR
VERSION:2.0
PRODID:TU Chemnitz
METHOD:PUBLISH
X-WR-CALNAME:Veranstaltungen der TU Chemnitz
X-WR-TIMEZONE:Europe/Berlin
BEGIN:VEVENT
CLASS:PUBLIC
DTSTART;TZID="Europe/Berlin":20101127T094500
DTEND;TZID="Europe/Berlin":20101127T193000
LOCATION:
SUMMARY:Weihnachtsexkursion des IUZ zum Leipziger Weihnachtsmarkt (TU Chemnitz\, Internationales Universitätszentrum)
DESCRIPTION:Weihnachtsexkursion des Internationalen Universitätszentrums für ausländische Studierende und Doktoranden der TU Chemnitz\, Anmeldung ab 25.10.2010 persönlich bei Frau Auerbach\, IUZ - Zimmer 003c / StraNa\nFrau Auerbach\, IUZ
ORGANIZER:MAILTO:patenprogramm@tu-chemnitz.de
UID:12846@www.tu-chemnitz.de
CREATED:20101019T161100Z
DTSTAMP:20210802T192956Z
END:VEVENT
END:VCALENDAR
