BEGIN:VCALENDAR
VERSION:2.0
PRODID:TU Chemnitz
METHOD:PUBLISH
X-WR-CALNAME:Veranstaltungen der TU Chemnitz
X-WR-TIMEZONE:Europe/Berlin
BEGIN:VEVENT
CLASS:PUBLIC
DTSTART;TZID="Europe/Berlin":20101024T103000
DTEND;TZID="Europe/Berlin":20101024T113000
LOCATION:Reichenhainer Str. 90\, Chemnitz (Zentr. Hörsaal- und Seminargebäude)
SUMMARY:Wie kommt der Kater in den Muskel? (TU Chemnitz\, Kinder-Uni)
DESCRIPTION:Die Kinder-Uni der TU Chemnitz lädt zum Wintersemester 2010/11 ein. Diesmal dreht sich alles um Sport und den Körper. Wieso bekommt man Muskelkalter und warum rast der Puls so? Diese und andere Fragen beantwortet Kinderarzt Jörg Leibiger.\nDipl.-Med. Jörg Leibiger\nBrita Stingl\, 36036\, kinderuni@tu-chemnitz.de
ORGANIZER:MAILTO:brita.stingl@verwaltung.tu-chemnitz.de
UID:12824@www.tu-chemnitz.de
CREATED:20101018T082700Z
DTSTAMP:20210802T193029Z
END:VEVENT
END:VCALENDAR
