BEGIN:VCALENDAR
VERSION:2.0
PRODID:TU Chemnitz
METHOD:PUBLISH
X-WR-CALNAME:Veranstaltungen der TU Chemnitz
X-WR-TIMEZONE:Europe/Berlin
BEGIN:VEVENT
CLASS:PUBLIC
DTSTART;TZID="Europe/Berlin":20101109T200000
DTEND;TZID="Europe/Berlin":20101109T230000
LOCATION:Club der Kulturen
SUMMARY: lesbar - Lesung mit Lars Reppesgaard "Das Google-Imperium" (Studentenrat\, Referat Kultur)
DESCRIPTION:lesbar präsentiert Lars Reppesgaard\, der einen Einblick in die Entwicklung und Geschäftsstrategien des Suchmaschinenriesen gibt. Der Eintritt ist wie bei jeder lesbar-Veranstaltung natürlich frei !\nkultur@stura.tu-chemnitz.de
ORGANIZER:MAILTO:karl.meissner@s2008.tu-chemnitz.de
UID:12822@www.tu-chemnitz.de
CREATED:20101017T145000Z
DTSTAMP:20210802T192956Z
END:VEVENT
END:VCALENDAR
