BEGIN:VCALENDAR
VERSION:2.0
PRODID:TU Chemnitz
METHOD:PUBLISH
X-WR-CALNAME:Veranstaltungen der TU Chemnitz
X-WR-TIMEZONE:Europe/Berlin
BEGIN:VEVENT
CLASS:PUBLIC
DTSTART;TZID="Europe/Berlin":20101028T200000
DTEND;TZID="Europe/Berlin":20101028T230000
LOCATION:Reichenhainer Str. 55\, Chemnitz (Mensa)
SUMMARY:"Berliner mit Schuss"  (Studentenwerk)
DESCRIPTION:Tickets: 15 €/ ermäßigt 10 € im Vorverkauf im Studentenwerk oder an allen bekannten Vorverkaufsstellen (zzgl. VVK); 20 €/ ermäßigt 14 € an der AbendkasseEinlass: ab 19:00 Uhr\nKabarett mit Cloozy (Prix Pantheon Gewinnerin 2009)\, Jochen Falck und Rolf Kuhl \nTel. 0371 5628-170\, info@swcz.de
ORGANIZER:MAILTO:stephanie.kraemer@verwaltung.tu-chemnitz.de
UID:12813@www.tu-chemnitz.de
CREATED:20101015T095300Z
DTSTAMP:20210802T193020Z
END:VEVENT
END:VCALENDAR
