BEGIN:VCALENDAR
VERSION:2.0
PRODID:TU Chemnitz
METHOD:PUBLISH
X-WR-CALNAME:Veranstaltungen der TU Chemnitz
X-WR-TIMEZONE:Europe/Berlin
BEGIN:VEVENT
CLASS:PUBLIC
DTSTART;TZID="Europe/Berlin":20101106T160000
DTEND;TZID="Europe/Berlin":20101106T213000
LOCATION:"Palanca" (Limbacher Straße/Ecke Barbarossastraße)
SUMMARY:Benefizkonzert (Ausländerbeauftragte der Stadt Chemnitz Etelka Kobuß)
DESCRIPTION:Anlässlich des 1. Todestages von Kwashi Safroh.Über einen Essensbeitrag für das "internationale kalte Buffet" freuen wir uns.\nhttp://weltenbaum-derbaummitherz.de
ORGANIZER:MAILTO:stephanie.kraemer@verwaltung.tu-chemnitz.de
UID:12809@www.tu-chemnitz.de
CREATED:20101013T154900Z
DTSTAMP:20210802T192958Z
END:VEVENT
END:VCALENDAR
