BEGIN:VCALENDAR
VERSION:2.0
PRODID:TU Chemnitz
METHOD:PUBLISH
X-WR-CALNAME:Veranstaltungen der TU Chemnitz
X-WR-TIMEZONE:Europe/Berlin
BEGIN:VEVENT
CLASS:PUBLIC
DTSTART;TZID="Europe/Berlin":20101213T210000
DTEND;TZID="Europe/Berlin":20101213T230000
LOCATION:Kino\, Reichenhainer Str. 35/37\, Keller
SUMMARY:[Campuskino * "mittendrin"] Die Solidarnosc-Zeit im Film: Verhör einer Frau (OmeU) - Eintritt frei!!  (filmclub »mittendrin«)
DESCRIPTION:Der legendäre Film um das Verhör einer unschuldigen Frau durch die Stalinisten wurde als einer der antikommunistischsten Filme Volkspolens eingestuft. Nicht zufällig verschwand er sofort in den Tresoren der Machthaber.\nfilmclub@tu-chemnitz.de
ORGANIZER:MAILTO:robert.gerstenberger@s2004.tu-chemnitz.de
UID:12801@www.tu-chemnitz.de
CREATED:20101011T122900Z
DTSTAMP:20210802T192917Z
END:VEVENT
END:VCALENDAR
