BEGIN:VCALENDAR
VERSION:2.0
PRODID:TU Chemnitz
METHOD:PUBLISH
X-WR-CALNAME:Veranstaltungen der TU Chemnitz
X-WR-TIMEZONE:Europe/Berlin
BEGIN:VEVENT
CLASS:PUBLIC
DTSTART;TZID="Europe/Berlin":20110304T090000
DTEND;TZID="Europe/Berlin":20110305T170000
LOCATION:Café Weltecho\, Annaberger Str. 24
SUMMARY:Werkzeug Stimme für Promovierende (TU Chemnitz\, Forschungsakademie)
DESCRIPTION:Besonders für Berufe mit einer hohen sprecherischen Belastung (z. B. Dozenten\, Führungskräfte und Berater) ist der ökonomische und physiologische Gebrauch der Stimme von existenzieller Bedeutung.\nMartin Kreusch\nBrita Stingl\, 0371 531-36036\, brita.stingl@verwaltung.tu-chemnitz.de
ORGANIZER:MAILTO:ronald.herzog@hrz.tu-chemnitz.de
UID:12791@www.tu-chemnitz.de
CREATED:20101008T140500Z
DTSTAMP:20210802T192814Z
END:VEVENT
END:VCALENDAR
