BEGIN:VCALENDAR
VERSION:2.0
PRODID:TU Chemnitz
METHOD:PUBLISH
X-WR-CALNAME:Veranstaltungen der TU Chemnitz
X-WR-TIMEZONE:Europe/Berlin
BEGIN:VEVENT
CLASS:PUBLIC
DTSTART;TZID="Europe/Berlin":20110224T090000
DTEND;TZID="Europe/Berlin":20110225T160000
LOCATION:Villa Bahnhofstr. 8\, 1 Etage\, Raum G104
SUMMARY:Zeitmanagement für Promovierende (TU Chemnitz\, Forschungsakademie )
DESCRIPTION:Zeitmanagement zählt zu den wichtigsten Arbeitstechniken des Selbst- und Projektmanagements. Insbesondere bei komplexen Vorhaben wie einer Promotion ist es von enormer Bedeutung\, die zur Verfügung stehende Zeit gezielt zu planen und zu nutzen.\nDr. Peggy Fischer\nBrita Stingl\, 0371 531-36036\, brita.stingl@verwaltung.tu-chemnitz.de
ORGANIZER:MAILTO:ronald.herzog@hrz.tu-chemnitz.de
UID:12787@www.tu-chemnitz.de
CREATED:20101008T135000Z
DTSTAMP:20210802T192837Z
END:VEVENT
END:VCALENDAR
