BEGIN:VCALENDAR
VERSION:2.0
PRODID:TU Chemnitz
METHOD:PUBLISH
X-WR-CALNAME:Veranstaltungen der TU Chemnitz
X-WR-TIMEZONE:Europe/Berlin
BEGIN:VEVENT
CLASS:PUBLIC
DTSTART;TZID="Europe/Berlin":20110121T090000
DTEND;TZID="Europe/Berlin":20110122T170000
LOCATION:
SUMMARY:PR und Journalismus für GeisteswissenschaftlerInnen (TU Chemnitz)
DESCRIPTION:Ein souveräner Umgang mit Medien\, ihren Vertretern und Nutzern eröffnet Geisteswissenschaftlern neue berufliche Perspektiven. In diesem Workshop lernst du die  Arbeitsweise eines Journalisten und die Werkzeuge erfolgreicher Öffentlichkeitsarbeit kennen.\nChristian Stadali\nRonald Herzog\, Tel.: 0371/53138447
ORGANIZER:MAILTO:ronald.herzog@hrz.tu-chemnitz.de
UID:12779@www.tu-chemnitz.de
CREATED:20101008T130700Z
DTSTAMP:20210802T192855Z
END:VEVENT
END:VCALENDAR
