BEGIN:VCALENDAR
VERSION:2.0
PRODID:TU Chemnitz
METHOD:PUBLISH
X-WR-CALNAME:Veranstaltungen der TU Chemnitz
X-WR-TIMEZONE:Europe/Berlin
BEGIN:VEVENT
CLASS:PUBLIC
DTSTART;TZID="Europe/Berlin":20101126T090000
DTEND;TZID="Europe/Berlin":20101126T170000
LOCATION:Reichenhainer Str. 90\, Chemnitz (Zentr. Hörsaal- und Seminargebäude)
SUMMARY:Business-Knigge (TU Chemnitz)
DESCRIPTION:„Das Auftreten\, der Habitus und eine natürliche Souveränität sind für die Karriere wichtiger als alle Zeugnisse.“ (FOCUS\, 2007)\nClaudia Nebel\nRonald Herzog\, Tel.: 0371/53138774
ORGANIZER:MAILTO:ronald.herzog@hrz.tu-chemnitz.de
UID:12765@www.tu-chemnitz.de
CREATED:20101008T113100Z
DTSTAMP:20210802T192952Z
END:VEVENT
END:VCALENDAR
