BEGIN:VCALENDAR
VERSION:2.0
PRODID:TU Chemnitz
METHOD:PUBLISH
X-WR-CALNAME:Veranstaltungen der TU Chemnitz
X-WR-TIMEZONE:Europe/Berlin
BEGIN:VEVENT
CLASS:PUBLIC
DTSTART;TZID="Europe/Berlin":20110221T140000
DTEND;TZID="Europe/Berlin":20110221T180000
LOCATION:Career Service\, Raum 308
SUMMARY:Feedback- und Kritikmanagement (TU Chemnitz)
DESCRIPTION:Im Workshop lernst du Grundlagen des Feedback-und Kritikmanagements wie Trennung von Beobachtung und Bewertung\, von Person\, Sache und Situation kennen. Darüber hinaus arbeitest du in Übungen und Videoanalysen an deiner persönlichen Feedbackkompetenz.\nRonald Herzog\nRonald Herzog\, Tel.: 0371/53138447
ORGANIZER:MAILTO:ronald.herzog@hrz.tu-chemnitz.de
UID:12759@www.tu-chemnitz.de
CREATED:20101008T110700Z
DTSTAMP:20210802T192841Z
END:VEVENT
END:VCALENDAR
