BEGIN:VCALENDAR
VERSION:2.0
PRODID:TU Chemnitz
METHOD:PUBLISH
X-WR-CALNAME:Veranstaltungen der TU Chemnitz
X-WR-TIMEZONE:Europe/Berlin
BEGIN:VEVENT
CLASS:PUBLIC
DTSTART;TZID="Europe/Berlin":20101126T090000
DTEND;TZID="Europe/Berlin":20101127T170000
LOCATION:Pegasuscenter\, Stadler Str. 14a\, 5.OG
SUMMARY:Sicheres Auftreten in Verhandlungen (TU Chemnitz)
DESCRIPTION:Was braucht es\, damit du in Verhandlungen sicher(er) auftrittst? Wie kannst du Verhandlungsergebnisse erzielen\, die deinen Interessen entsprechen und gleichzeitig einen fairen Umgang mit deinen Verhandlungspartnern ermöglichen?\nKay Strauß\nRonald Herzog\, Tel.: 0371/53138774
ORGANIZER:MAILTO:ronald.herzog@hrz.tu-chemnitz.de
UID:12749@www.tu-chemnitz.de
CREATED:20101008T100700Z
DTSTAMP:20210802T192944Z
END:VEVENT
END:VCALENDAR
