BEGIN:VCALENDAR
VERSION:2.0
PRODID:TU Chemnitz
METHOD:PUBLISH
X-WR-CALNAME:Veranstaltungen der TU Chemnitz
X-WR-TIMEZONE:Europe/Berlin
BEGIN:VEVENT
CLASS:PUBLIC
DTSTART;TZID="Europe/Berlin":20101119T090000
DTEND;TZID="Europe/Berlin":20101120T170000
LOCATION:Café Weltecho\, Annaberger Str. 24 
SUMMARY:Werkzeug Stimme (TU Chemnitz)
DESCRIPTION:Besonders für Berufe mit einer hohen sprecherischen Belastung wie TrainerInnen\, Führungskräfte und BeraterInnen ist der ökonomische und physiologische Gebrauch der Stimme von Bedeutung.\nCorinna Brenner\nRonald Herzog\, Tel.: 0371/53138774
ORGANIZER:MAILTO:ronald.herzog@hrz.tu-chemnitz.de
UID:12747@www.tu-chemnitz.de
CREATED:20101008T100000Z
DTSTAMP:20210802T192951Z
END:VEVENT
END:VCALENDAR
