BEGIN:VCALENDAR
VERSION:2.0
PRODID:TU Chemnitz
METHOD:PUBLISH
X-WR-CALNAME:Veranstaltungen der TU Chemnitz
X-WR-TIMEZONE:Europe/Berlin
BEGIN:VEVENT
CLASS:PUBLIC
DTSTART;TZID="Europe/Berlin":20101020T160000
DTEND;TZID="Europe/Berlin":20101020T173000
LOCATION:Reichenhainer Str. 90\, Chemnitz (Zentr. Hörsaal- und Seminargebäude)
SUMMARY:Antrittsvorlesung Prof. Dr.-Ing. Thomas von Unwerth: "Brennstoffzellen und Brennstoffzellensysteme" (Fakultät für Maschinenbau\, Professur Alternative Fahrzeugantriebe)
DESCRIPTION:Prof. Dr.-Ing. Thomas von Unwerth leitet die im Juli 2010 neu eingerichtete Professur Alternative Fahrzeugantriebe.\nProf. Dr.-Ing. Thomas von Unwerth\nhttp://www.tu-chemnitz.de/mb/alf
ORGANIZER:MAILTO:jens.winkler@mb.tu-chemnitz.de
UID:12735@www.tu-chemnitz.de
CREATED:20101005T153400Z
DTSTAMP:20210802T193022Z
END:VEVENT
END:VCALENDAR
