BEGIN:VCALENDAR
VERSION:2.0
PRODID:TU Chemnitz
METHOD:PUBLISH
X-WR-CALNAME:Veranstaltungen der TU Chemnitz
X-WR-TIMEZONE:Europe/Berlin
BEGIN:VEVENT
CLASS:PUBLIC
DTSTART;TZID="Europe/Berlin":20101028T210000
DTEND;TZID="Europe/Berlin":20101028T230000
LOCATION:Kino\, Reichenhainer Str. 35/37\, Keller
SUMMARY:[Campuskino * "mittendrin"] Parkour (filmclub »mittendrin«)
DESCRIPTION:Animalisch\, kraftvoll\, visuell ansprechend: Man hetzt um sein Leben - in jeder Beziehung.\nfilmclub@tu-chemnitz.de
ORGANIZER:MAILTO:robert.gerstenberger@s2004.tu-chemnitz.de
UID:12721@www.tu-chemnitz.de
CREATED:20101003T225200Z
DTSTAMP:20210802T193025Z
END:VEVENT
END:VCALENDAR
