BEGIN:VCALENDAR
VERSION:2.0
PRODID:TU Chemnitz
METHOD:PUBLISH
X-WR-CALNAME:Veranstaltungen der TU Chemnitz
X-WR-TIMEZONE:Europe/Berlin
BEGIN:VEVENT
CLASS:PUBLIC
DTSTART;TZID="Europe/Berlin":20101012T210000
DTEND;TZID="Europe/Berlin":20101012T230000
LOCATION:Kino\, Reichenhainer Str. 35/37\, Keller
SUMMARY:[Campuskino * "mittendrin"] Moon (filmclub »mittendrin«)
DESCRIPTION:Eine intime Charakterstudie im Weltall\, ein Drei-Personen-Stück mit nur einem Schauspieler; ein positiv altmodischer SciFi-Thriller und ein ganz irdisch spannender Thriller auf dem Mond.\nfilmclub@tu-chemnitz.de
ORGANIZER:MAILTO:robert.gerstenberger@s2004.tu-chemnitz.de
UID:12716@www.tu-chemnitz.de
CREATED:20101003T224900Z
DTSTAMP:20210802T193024Z
END:VEVENT
END:VCALENDAR
