BEGIN:VCALENDAR
VERSION:2.0
PRODID:TU Chemnitz
METHOD:PUBLISH
X-WR-CALNAME:Veranstaltungen der TU Chemnitz
X-WR-TIMEZONE:Europe/Berlin
BEGIN:VEVENT
CLASS:PUBLIC
DTSTART;TZID="Europe/Berlin":20001114T151500
DTEND;TZID="Europe/Berlin":20001114T164500
LOCATION:Uni-Teil 3: Reichenhainer Str. 70\, Chemnitz (Zentr. Hörsaal- und Seminargebäude)
SUMMARY:Architekturfarbigkeit mittelalterlicher Bauten - Ergebnisse zur Untersuchung von Putz- und Steinfarbigkeit an ausgewählten sächsischen Monumenten (Philosophische Fakultät\, Professur Erwachsenenbildung und betriebliche Weiterbildung\, Gesellschaft der Freunde der TU Chemnitz e.V.)
DESCRIPTION:Günter Donath\, Dombaumeister beim Hochstift Meißen\nSekretariat des Seniorenkollegs: Reichenhainer Straße 70\, Raum 18\, Tel. 5 31-20 75\, Sprechzeit: dienstags 10.00 - 14.30 Uhr
ORGANIZER:MAILTO:iroe@hrz.tu-chemnitz.de
UID:1270@www.tu-chemnitz.de
CREATED:20000823T123700Z
DTSTAMP:20210802T202849Z
END:VEVENT
END:VCALENDAR
