BEGIN:VCALENDAR
VERSION:2.0
PRODID:TU Chemnitz
METHOD:PUBLISH
X-WR-CALNAME:Veranstaltungen der TU Chemnitz
X-WR-TIMEZONE:Europe/Berlin
BEGIN:VEVENT
CLASS:PUBLIC
DTSTART;TZID="Europe/Berlin":20101104T171500
DTEND;TZID="Europe/Berlin":20101104T184500
LOCATION:Reichenhainer Str. 70\, Chemnitz (Rühlmann-Bau)
SUMMARY:Business-to-Business-Marketing (TU Chemnitz)
DESCRIPTION:Die Vorlesung ist auf die Besonderheiten der Marktbearbeitung von Unternehmen aus Technologiesektoren zugeschnitten und thematisiert anschaulich und facettenreich die theoretischen und praktischen Aspekte des Business-to-Business-Marketing.\nMarc Banaszak\nhttp://www.saxeed.net
ORGANIZER:MAILTO:claudia.kuechler@s2007.tu-chemnitz.de
UID:12694@www.tu-chemnitz.de
CREATED:20100930T171800Z
DTSTAMP:20210802T192946Z
END:VEVENT
END:VCALENDAR
