BEGIN:VCALENDAR
VERSION:2.0
PRODID:TU Chemnitz
METHOD:PUBLISH
X-WR-CALNAME:Veranstaltungen der TU Chemnitz
X-WR-TIMEZONE:Europe/Berlin
BEGIN:VEVENT
CLASS:PUBLIC
DTSTART;TZID="Europe/Berlin":20101209T090000
DTEND;TZID="Europe/Berlin":20101209T170000
LOCATION:Pegasus-Center\, Chemnitz
SUMMARY:Teammanagement für Unternehmensgründer (TU Chemnitz)
DESCRIPTION:Der Workshop „Team-Management“ vermittelt Ansätze\, um mit unterschiedlichen kritischen Team-Situationen konstruktiv umzugehen\, Freude an der Zusammenarbeit zu finden und gemeinsam die beste Leistung zu erbringen.\nTobias Meyhöfer\nhttp://www.saxeed.net
ORGANIZER:MAILTO:claudia.kuechler@s2007.tu-chemnitz.de
UID:12680@www.tu-chemnitz.de
CREATED:20100930T144700Z
DTSTAMP:20210802T192914Z
END:VEVENT
END:VCALENDAR
