BEGIN:VCALENDAR
VERSION:2.0
PRODID:TU Chemnitz
METHOD:PUBLISH
X-WR-CALNAME:Veranstaltungen der TU Chemnitz
X-WR-TIMEZONE:Europe/Berlin
BEGIN:VEVENT
CLASS:PUBLIC
DTSTART;TZID="Europe/Berlin":20101217T090000
DTEND;TZID="Europe/Berlin":20101217T170000
LOCATION:Pegasus-Center\, Chemnitz
SUMMARY:Unternehmens- und Kleingründungen kompakt (TU Chemnitz)
DESCRIPTION:Im Fokus der Lehrveranstaltung stehen Gründungen\, die meist zügig realisierbar sind und einen relativ geringen Kapitalbedarf haben.\nChristina Militzer\, Uwe Leutholf\, SB Wolfgang Kowollik\, RA Michael Fuhrland\nhttp://www.saxeed.net
ORGANIZER:MAILTO:claudia.kuechler@s2007.tu-chemnitz.de
UID:12678@www.tu-chemnitz.de
CREATED:20100930T144500Z
DTSTAMP:20210802T192913Z
END:VEVENT
END:VCALENDAR
