BEGIN:VCALENDAR
VERSION:2.0
PRODID:TU Chemnitz
METHOD:PUBLISH
X-WR-CALNAME:Veranstaltungen der TU Chemnitz
X-WR-TIMEZONE:Europe/Berlin
BEGIN:VEVENT
CLASS:PUBLIC
DTSTART;TZID="Europe/Berlin":20101029T090000
DTEND;TZID="Europe/Berlin":20101029T170000
LOCATION:Pegasus-Center\, Chemnitz
SUMMARY:Grundlagen des Projektmanagements (TU Chemnitz)
DESCRIPTION:Um angehende Unternehmensgründer auf anstehende Projekte vorzubereiten\, vermittelt das Trainer-Team Kenntnisse zum Ablauf von Projekten und zu notwendigen Voraussetzungen.\nDr. Matthias Fuhrland\, Uwe Leutholf\nhttp://www.saxeed.net
ORGANIZER:MAILTO:claudia.kuechler@s2007.tu-chemnitz.de
UID:12669@www.tu-chemnitz.de
CREATED:20100930T143000Z
DTSTAMP:20210802T193030Z
END:VEVENT
END:VCALENDAR
