BEGIN:VCALENDAR
VERSION:2.0
PRODID:TU Chemnitz
METHOD:PUBLISH
X-WR-CALNAME:Veranstaltungen der TU Chemnitz
X-WR-TIMEZONE:Europe/Berlin
BEGIN:VEVENT
CLASS:PUBLIC
DTSTART;TZID="Europe/Berlin":20101206T171500
DTEND;TZID="Europe/Berlin":20101206T184500
LOCATION:Reichenhainer Str. 90\, Chemnitz (Zentr. Hörsaal- und Seminargebäude)
SUMMARY:Recht für Gründer (TU Chemnitz)
DESCRIPTION:In dieser Vorlesung wird das gründungsrelevante rechtliche Vorwissen am Beispiel einer Neugründung besprochen und in dem Zusammenhang auf die juristischen Alltagsprobleme der neuen Unternehmung eingegangen.\nRA Gunnar Beck\nhttp://www.saxeed.net
ORGANIZER:MAILTO:claudia.kuechler@s2007.tu-chemnitz.de
UID:12662@www.tu-chemnitz.de
CREATED:20100930T131000Z
DTSTAMP:20210802T192920Z
END:VEVENT
END:VCALENDAR
