BEGIN:VCALENDAR
VERSION:2.0
PRODID:TU Chemnitz
METHOD:PUBLISH
X-WR-CALNAME:Veranstaltungen der TU Chemnitz
X-WR-TIMEZONE:Europe/Berlin
BEGIN:VEVENT
CLASS:PUBLIC
DTSTART;TZID="Europe/Berlin":20101118T190000
DTEND;TZID="Europe/Berlin":20101118T190000
LOCATION:Physik-Institut\, Smart Systems Campus
SUMMARY:Preisverleihung wissen.schafft.arbeit (TU Chemnitz)
DESCRIPTION:Im Vordergrund des dritten Technologie-Transfer-Symposiums stehen Möglichkeiten zu Finanzierung und Förderung von (Aus-)Gründungen\, junge Kommunikationsformen für junge Wachstumsunternehmen und best practice Beispiele für Technologietransfer.\nhttp://www.wissenschafftarbeit.de/
ORGANIZER:MAILTO:claudia.kuechler@s2007.tu-chemnitz.de
UID:12635@www.tu-chemnitz.de
CREATED:20100930T092600Z
DTSTAMP:20210802T192945Z
END:VEVENT
END:VCALENDAR
