BEGIN:VCALENDAR
VERSION:2.0
PRODID:TU Chemnitz
METHOD:PUBLISH
X-WR-CALNAME:Veranstaltungen der TU Chemnitz
X-WR-TIMEZONE:Europe/Berlin
BEGIN:VEVENT
CLASS:PUBLIC
DTSTART;TZID="Europe/Berlin":20101208T153000
DTEND;TZID="Europe/Berlin":20101208T170000
LOCATION:Reichenhainer Str. 90\, Chemnitz (Zentr. Hörsaal- und Seminargebäude)
SUMMARY:Praktikum in Europa mit dem LEONARDO-Programm (TU Chemnitz\, Internationales Universitätszentrum)
DESCRIPTION:Informationsveranstaltung zu Auslandspraktika in Europa im Rahmen des LEONARDO-Programms. Alle Interessenten sind herzlich eingeladen.\nKatja Lehmann (LEONARDO-BÜRO)\, Oliver Sachs (IUZ)\nOliver Sachs\, (0371) 531 37972\, oliver.sachs@iuz.tu-chemnitz.de
ORGANIZER:MAILTO:oliver.sachs@iuz.tu-chemnitz.de
UID:12613@www.tu-chemnitz.de
CREATED:20100915T090800Z
DTSTAMP:20210802T192917Z
END:VEVENT
END:VCALENDAR
