BEGIN:VCALENDAR
VERSION:2.0
PRODID:TU Chemnitz
METHOD:PUBLISH
X-WR-CALNAME:Veranstaltungen der TU Chemnitz
X-WR-TIMEZONE:Europe/Berlin
BEGIN:VEVENT
CLASS:PUBLIC
DTSTART;TZID="Europe/Berlin":20000919T160000
DTEND;TZID="Europe/Berlin":20000919T160000
LOCATION:AWEBA Werkzeugbau GmbH Aue\, Damaschkestraße 7\, 08280 Aue
SUMMARY:Vorstellung des Unternehmens AWEBA Werkzeugbau GmbH Aue mit Besichtigung ausgewählter Produktionsbereiche und Vortrag über Vakuumhärtetechnik  (Fakultät für Maschinenbau und Verfahrenstechnik\, Professur Werkstoffe des Maschinenbaues\, Arbeitskreis Wärmebehandlung und Werkstofftechnik)
DESCRIPTION:Dipl.-Ing. Udo Günther\, AWEBA Werkzeugbau GmbH Aue\, Dipl.-Ing. Helmut Steinmann\, IVA Dortmund\nDipl.-Ing. Ulrich Thieme\, Tel. 3 36 32 22
ORGANIZER:MAILTO:iroe@hrz.tu-chemnitz.de
UID:1261@www.tu-chemnitz.de
CREATED:20000823T101500Z
DTSTAMP:20210802T202913Z
END:VEVENT
END:VCALENDAR
