BEGIN:VCALENDAR
VERSION:2.0
PRODID:TU Chemnitz
METHOD:PUBLISH
X-WR-CALNAME:Veranstaltungen der TU Chemnitz
X-WR-TIMEZONE:Europe/Berlin
BEGIN:VEVENT
CLASS:PUBLIC
DTSTART;TZID="Europe/Berlin":20101027T153000
DTEND;TZID="Europe/Berlin":20101027T170000
LOCATION:Reichenhainer Str. 90\, Chemnitz (Zentr. Hörsaal- und Seminargebäude)
SUMMARY:Informationsveranstaltung AuslandsBaföG\, Auslandssemester/ -praktikum (TU Chemnitz\, Internationales Universitätszentrum)
DESCRIPTION:Informationsveranstaltung für alle Auslandssemesterinteressierten mit Schwerpunkt Beantragung AuslandsBaföG und allgemeinen Informationen zum ERASMUS-Programm und anderen Fördermöglichkeiten. Alle Interessenten sind herzlich eingeladen.\nDaniel Heß (SWCZ)\, Oliver Sachs (IUZ)\nOliver Sachs\, (0371) 531 37972\, oliver.sachs@iuz.tu-chemnitz.de
ORGANIZER:MAILTO:oliver.sachs@iuz.tu-chemnitz.de
UID:12609@www.tu-chemnitz.de
CREATED:20100915T083700Z
DTSTAMP:20210802T193033Z
END:VEVENT
END:VCALENDAR
