BEGIN:VCALENDAR
VERSION:2.0
PRODID:TU Chemnitz
METHOD:PUBLISH
X-WR-CALNAME:Veranstaltungen der TU Chemnitz
X-WR-TIMEZONE:Europe/Berlin
BEGIN:VEVENT
CLASS:PUBLIC
DTSTART;TZID="Europe/Berlin":20101004T090000
DTEND;TZID="Europe/Berlin":20101008T160000
LOCATION:Reichenhainer Str. 90\, Chemnitz (Zentr. Hörsaal- und Seminargebäude)
SUMMARY:Orientierungswoche des Fachschaftsrates Informatik (Fakultät für Informatik\, Fachschaftsrat Informatik)
DESCRIPTION:Orientierungswoche für alle Erstsemestler in den Studiengängen der Fakultät für Informatik\nFSR Informatik\ninfo-owoche@tu-chemnitz.de
ORGANIZER:MAILTO:christian.werner@s2004.tu-chemnitz.de
UID:12601@www.tu-chemnitz.de
CREATED:20100906T001900Z
DTSTAMP:20210802T193028Z
END:VEVENT
END:VCALENDAR
