BEGIN:VCALENDAR
VERSION:2.0
PRODID:TU Chemnitz
METHOD:PUBLISH
X-WR-CALNAME:Veranstaltungen der TU Chemnitz
X-WR-TIMEZONE:Europe/Berlin
BEGIN:VEVENT
CLASS:PUBLIC
DTSTART;TZID="Europe/Berlin":20000914T100000
DTEND;TZID="Europe/Berlin":20000914T160000
LOCATION:Uni-Teil 9: Wilhelm-Raabe-Str. 43\, Chemnitz
SUMMARY:Fachtagung Inszenierung Lebensweg - Lebensweginszenierung (Aktion Jugendschutz Sachsen e.V.)
DESCRIPTION:Welche Merkmale für den Übergang zwischen Jugend und \nErwachsensein gibt es in der heutigen Zeit? Suchen Jugendliche\neigene Rituale in Kirche\, Sekten oder Jugendgruppen? Sind diese\nentscheidend für die Lebensbiografie?\nAnmeldung erbeten\nverschiedene namhafte ReferentInnen\nUwe Majewski\, Tel: 0371/211639 e-mail: ajsSachsen@T-Online.de
ORGANIZER:MAILTO:Sandra.Rech@phil.tu-chemnitz.de
UID:1260@www.tu-chemnitz.de
CREATED:20000822T135800Z
DTSTAMP:20210802T202914Z
END:VEVENT
END:VCALENDAR
