BEGIN:VCALENDAR
VERSION:2.0
PRODID:TU Chemnitz
METHOD:PUBLISH
X-WR-CALNAME:Veranstaltungen der TU Chemnitz
X-WR-TIMEZONE:Europe/Berlin
BEGIN:VEVENT
CLASS:PUBLIC
DTSTART;TZID="Europe/Berlin":19981020T181500
DTEND;TZID="Europe/Berlin":19981020T200000
LOCATION:Uni-Teil 3: Reichenhainer Str. 39\, Chemnitz
SUMMARY:Kolloquium: "Zisterzienser in Dargun - Bau- und Kunstgeschichte eines Klosters im hohen Mittelalter" (Philosophische Fakultät\, Geschichte des Mittelalters - Wirtschafts- u. Sozialgeschichte)
DESCRIPTION:Christine Kratzke (Leipzig)
ORGANIZER:MAILTO:nosc@hrz.tu-chemnitz.de
UID:126@www.tu-chemnitz.de
CREATED:19981019T111000Z
DTSTAMP:20210802T203557Z
END:VEVENT
END:VCALENDAR
