BEGIN:VCALENDAR
VERSION:2.0
PRODID:TU Chemnitz
METHOD:PUBLISH
X-WR-CALNAME:Veranstaltungen der TU Chemnitz
X-WR-TIMEZONE:Europe/Berlin
BEGIN:VEVENT
CLASS:PUBLIC
DTSTART;TZID="Europe/Berlin":20101105T090000
DTEND;TZID="Europe/Berlin":20101105T180000
LOCATION:Str. der Nationen 62\, Chemnitz (Altes Heizhaus)
SUMMARY:Europäische Nachbarschaften (Philosophische Fakultät\, Sozial- und Wirtschaftsgeographie; Internationale Politik)
DESCRIPTION:Im Rahmen des 14. Politik- und Regionalwissenschaftlichen Symposiums werden sich verschiedene Referenten mit der Europäischen Nachbarschaftspolitik (v.a. Tschechien\, Weißrußland\, Polen) auseinander setzen.\ndiverse\nIlona Scherm\, Tel. 0371-531 34503\, scherm@hrz.tu-chemnitz.de
ORGANIZER:MAILTO:ilona.scherm@iuz.tu-chemnitz.de
UID:12589@www.tu-chemnitz.de
CREATED:20100824T142700Z
DTSTAMP:20210802T192955Z
END:VEVENT
END:VCALENDAR
