BEGIN:VCALENDAR
VERSION:2.0
PRODID:TU Chemnitz
METHOD:PUBLISH
X-WR-CALNAME:Veranstaltungen der TU Chemnitz
X-WR-TIMEZONE:Europe/Berlin
BEGIN:VEVENT
CLASS:PUBLIC
DTSTART;TZID="Europe/Berlin":20100906T083000
DTEND;TZID="Europe/Berlin":20100910T190000
LOCATION:Str. der Nationen 62\, Chemnitz (Böttcher-Bau)
SUMMARY:Elektrochemische Verfahren in der Organischen Synthese (TU Chemnitz\, Institut für Chemie\, AG Elektrochemie)
DESCRIPTION:Rudolf Holze. 0371 53131509\, rudolf.holze@chemie.tu-chemnitz.de
ORGANIZER:MAILTO:rudolf.holze@chemie.tu-chemnitz.de
UID:12588@www.tu-chemnitz.de
CREATED:20100824T105800Z
DTSTAMP:20210802T193052Z
END:VEVENT
END:VCALENDAR
