BEGIN:VCALENDAR
VERSION:2.0
PRODID:TU Chemnitz
METHOD:PUBLISH
X-WR-CALNAME:Veranstaltungen der TU Chemnitz
X-WR-TIMEZONE:Europe/Berlin
BEGIN:VEVENT
CLASS:PUBLIC
DTSTART;TZID="Europe/Berlin":20101005T093000
DTEND;TZID="Europe/Berlin":20101005T123000
LOCATION:Industriemuseum Chemnitz (Museum of Industry\, Chemnitz)
SUMMARY:Orientierungswoche - Industriemuseum (museum of Industry) (TU Chemnitz\, Internationales Universitätszentrum)
DESCRIPTION:Treffpunkt: Tram-Haltestelle "Gutenbergstraße" (bei Penny) *** Meeting point: Tram stop "Gutenbergstraße" (next to Penny)\npatenprogramm@tu-chemnitz.de
ORGANIZER:MAILTO:patenprogramm@tu-chemnitz.de
UID:12571@www.tu-chemnitz.de
CREATED:20100815T161000Z
DTSTAMP:20210802T193029Z
END:VEVENT
END:VCALENDAR
