BEGIN:VCALENDAR
VERSION:2.0
PRODID:TU Chemnitz
METHOD:PUBLISH
X-WR-CALNAME:Veranstaltungen der TU Chemnitz
X-WR-TIMEZONE:Europe/Berlin
BEGIN:VEVENT
CLASS:PUBLIC
DTSTART;TZID="Europe/Berlin":20101026T173000
DTEND;TZID="Europe/Berlin":20101026T190000
LOCATION:Str. der Nationen 62\, Chemnitz (Altes Heizhaus)
SUMMARY:UNIX-Stammtisch in Sachsen (Universitätsrechenzentrum\, in Kooperation mit der GI-Regionalgruppe Chemnitz)
DESCRIPTION:Thema: eBooks selbst gebaut\nJens Pönisch\, TU Chemnitz (AZW-Wirtschaftsinformatik)\nM. Ehrig\, 53131525
ORGANIZER:MAILTO:ingrid.muschner@hrz.tu-chemnitz.de
UID:12566@www.tu-chemnitz.de
CREATED:20100809T135000Z
DTSTAMP:20210802T193025Z
END:VEVENT
END:VCALENDAR
