BEGIN:VCALENDAR
VERSION:2.0
PRODID:TU Chemnitz
METHOD:PUBLISH
X-WR-CALNAME:Veranstaltungen der TU Chemnitz
X-WR-TIMEZONE:Europe/Berlin
BEGIN:VEVENT
CLASS:PUBLIC
DTSTART;TZID="Europe/Berlin":20101004T100000
DTEND;TZID="Europe/Berlin":20101004T113000
LOCATION:Reichenhainer Str. 90\, Chemnitz (Zentr. Hörsaal- und Seminargebäude)
SUMMARY:Orientierungsphase des Fachschaftsrates Philosophische Fakultät - Einführungsveranstaltung (Philosophische Fakultät\, FSR Phil)
DESCRIPTION:Einführungsveranstaltung für alle Bachelor- und Master-Erstsemestler der Philosophischen Fakultät. Gastredner: Prof. Dr. Christoph Fasbender - Dekan der Philosophischen Fakultät\,  Angela Malz - Leiterin der Universitätsbibliothek u.a.\nFSR PHIL\nfsrphil@tu-chemnitz.de
ORGANIZER:MAILTO:andresemmisch@googlemail.com
UID:12561@www.tu-chemnitz.de
CREATED:20100730T173500Z
DTSTAMP:20210802T193020Z
END:VEVENT
END:VCALENDAR
