BEGIN:VCALENDAR
VERSION:2.0
PRODID:TU Chemnitz
METHOD:PUBLISH
X-WR-CALNAME:Veranstaltungen der TU Chemnitz
X-WR-TIMEZONE:Europe/Berlin
BEGIN:VEVENT
CLASS:PUBLIC
DTSTART;TZID="Europe/Berlin":20101005T190000
DTEND;TZID="Europe/Berlin":20101005T230000
LOCATION:Reichenhainer Str. 55\, Chemnitz (Mensa)
SUMMARY:Orientierungsphase des Fachschaftsrates Philosophische Fakultät - Kneipentour (TU Chemnitz\, FSR Phil)
DESCRIPTION:Kneipentour in Kooperation mit dem Patenprogramm des Internationalen Universitätszentrum\nfsrphil@tu-chemnitz.de
ORGANIZER:MAILTO:andresemmisch@googlemail.com
UID:12560@www.tu-chemnitz.de
CREATED:20100730T170100Z
DTSTAMP:20210802T193033Z
END:VEVENT
END:VCALENDAR
