BEGIN:VCALENDAR
VERSION:2.0
PRODID:TU Chemnitz
METHOD:PUBLISH
X-WR-CALNAME:Veranstaltungen der TU Chemnitz
X-WR-TIMEZONE:Europe/Berlin
BEGIN:VEVENT
CLASS:PUBLIC
DTSTART;TZID="Europe/Berlin":20101216T143000
DTEND;TZID="Europe/Berlin":20101216T173000
LOCATION:Str. der Nationen 62\, Chemnitz (Böttcher-Bau)
SUMMARY:GDCh-Vorträge / Stoeckhardt-Kolloquium\, Thema: "Chemie und Holz" (Fakultät für Naturwissenschaften\, Institut für Chemie zusammen mit der Gesellschaft Deutscher Chemiker (GDCh))
DESCRIPTION:Prof. Dr. Peter Fratzl\, MPI Potsdam / Prof. Dr. Regina Palkovits\, RWTH Aachen / PD Dr. Ronny Rößler\, Museum für Naturkunde\nProf. Dr. Heinrich Lang\, Tel.: 0371/531-21210\, heinrich.lang@chemie.tu-chemnitz.de
ORGANIZER:MAILTO:jutta.ruder@chemie.tu-chemnitz.de
UID:12559@www.tu-chemnitz.de
CREATED:20100730T101900Z
DTSTAMP:20210802T192918Z
END:VEVENT
END:VCALENDAR
