BEGIN:VCALENDAR
VERSION:2.0
PRODID:TU Chemnitz
METHOD:PUBLISH
X-WR-CALNAME:Veranstaltungen der TU Chemnitz
X-WR-TIMEZONE:Europe/Berlin
BEGIN:VEVENT
CLASS:PUBLIC
DTSTART;TZID="Europe/Berlin":20100831T210000
DTEND;TZID="Europe/Berlin":20100831T230000
LOCATION:Kino\, Reichenhainer Str. 35/37\, Keller
SUMMARY:[Campuskino * "mittendrin"] Mr. Nobody (filmclub »mittendrin«)
DESCRIPTION:Auf den Spuren von 'Lola rennt': ein Mann durchlebt alle Möglichkeiten seines Lebens und hat u.a. drei Ehefrauen gleichzeitig (in verschiedenen Möglichkeiten selbstverständlich!).\nfilmclub@tu-chemnitz.de
ORGANIZER:MAILTO:robert.gerstenberger@s2004.tu-chemnitz.de
UID:12557@www.tu-chemnitz.de
CREATED:20100729T123200Z
DTSTAMP:20210802T193106Z
END:VEVENT
END:VCALENDAR
