BEGIN:VCALENDAR
VERSION:2.0
PRODID:TU Chemnitz
METHOD:PUBLISH
X-WR-CALNAME:Veranstaltungen der TU Chemnitz
X-WR-TIMEZONE:Europe/Berlin
BEGIN:VEVENT
CLASS:PUBLIC
DTSTART;TZID="Europe/Berlin":20110119T100000
DTEND;TZID="Europe/Berlin":20110119T170000
LOCATION:Reichenhainer Str. 90\, Chemnitz (Zentr. Hörsaal- und Seminargebäude)
SUMMARY:ChemCon 2011 - Das Firmenkontaktforum (Studentische Initiative der TU Chemnitz: Chemnitz Contact e.V.)
DESCRIPTION:Chemnitz Contact e.V.\ninfo@chemnitz-contact.de
ORGANIZER:MAILTO:info@chemnitz-contact.de
UID:12536@www.tu-chemnitz.de
CREATED:20100718T205300Z
DTSTAMP:20210802T192850Z
END:VEVENT
END:VCALENDAR
