BEGIN:VCALENDAR
VERSION:2.0
PRODID:TU Chemnitz
METHOD:PUBLISH
X-WR-CALNAME:Veranstaltungen der TU Chemnitz
X-WR-TIMEZONE:Europe/Berlin
BEGIN:VEVENT
CLASS:PUBLIC
DTSTART;TZID="Europe/Berlin":20100724T200000
DTEND;TZID="Europe/Berlin":20100724T200000
LOCATION:Club der Kulturen
SUMMARY:International Farewell Party (TU Chemnitz\, Internationales Universitätszentrum)
DESCRIPTION:patenprogramm@tu-chemnitz.de
ORGANIZER:MAILTO:patenprogramm@tu-chemnitz.de
UID:12529@www.tu-chemnitz.de
CREATED:20100708T113600Z
DTSTAMP:20210802T193112Z
END:VEVENT
END:VCALENDAR
